BEGIN:VCALENDAR
VERSION:2.0
PRODID:-//ein Tanzkollektiv - ECPv6.15.20//NONSGML v1.0//EN
CALSCALE:GREGORIAN
METHOD:PUBLISH
X-WR-CALNAME:ein Tanzkollektiv
X-ORIGINAL-URL:https://dance-me-to-the-end.ch
X-WR-CALDESC:Veranstaltungen für ein Tanzkollektiv
REFRESH-INTERVAL;VALUE=DURATION:PT1H
X-Robots-Tag:noindex
X-PUBLISHED-TTL:PT1H
BEGIN:VTIMEZONE
TZID:Europe/Zurich
BEGIN:DAYLIGHT
TZOFFSETFROM:+0100
TZOFFSETTO:+0200
TZNAME:CEST
DTSTART:20250330T010000
END:DAYLIGHT
BEGIN:STANDARD
TZOFFSETFROM:+0200
TZOFFSETTO:+0100
TZNAME:CET
DTSTART:20251026T010000
END:STANDARD
BEGIN:DAYLIGHT
TZOFFSETFROM:+0100
TZOFFSETTO:+0200
TZNAME:CEST
DTSTART:20260329T010000
END:DAYLIGHT
BEGIN:STANDARD
TZOFFSETFROM:+0200
TZOFFSETTO:+0100
TZNAME:CET
DTSTART:20261025T010000
END:STANDARD
BEGIN:DAYLIGHT
TZOFFSETFROM:+0100
TZOFFSETTO:+0200
TZNAME:CEST
DTSTART:20270328T010000
END:DAYLIGHT
BEGIN:STANDARD
TZOFFSETFROM:+0200
TZOFFSETTO:+0100
TZNAME:CET
DTSTART:20271031T010000
END:STANDARD
END:VTIMEZONE
BEGIN:VEVENT
DTSTART;TZID=Europe/Zurich:20260206T180000
DTEND;TZID=Europe/Zurich:20260206T193000
DTSTAMP:20260420T131656
CREATED:20250621T151203Z
LAST-MODIFIED:20260310T174919Z
UID:3022-1770400800-1770406200@dance-me-to-the-end.ch
SUMMARY:dialogisches Format: KOMPOST UND KOLLEKTIV
DESCRIPTION:zweites Dialogisches Format | 6. Februar 2026 | Tanzhaus Zürich\nKompost und Kollektiv – vom Nichtwissen & Lauschen\nWorkshop im Kollektiv und Resonanzraum mit Publikum am Abend \nAuf der Suche nach somatischen\, beziehungsorientierten und neuen Formen des Sich-Verständigens luden wir dazu ein\, Wissen und Handeln gemeinsam neu zu erproben und in Bewegung zu bringen. Die Künstlerin Dorothea Rust teilte in diesem Rahmen ihren aktuellen künstlerischen Fokus auf den Boden als Lebens- und Wissensraum mit den Teilnehmenden. KOMPOST UND KOLLEKTIV arbeitete an der Schnittstelle von Kunst\, Ökologie und gesellschaftlichem Wandel. Im Zentrum stand die Frage\, wie ökologisches Handeln nicht nur theoretisch\, sondern körperlich erfahrbar\, in künstlerischen Praktiken und im gemeinsamen Austausch wirksam werden kann. Der Workshop am Nachmittag war Grundlage für den öffentlichen Resonanzraum am Abend\, der als situativer Resonanzraum verstand\, in dem wissenschaftliche Perspektiven\, künstlerische Prozesse und körperliche Erfahrungen miteinander verwoben wurden – ein Versuch\, eine „Ökologie des Seins“ anzuordnen und erfahrbar zu machen. \nGastkünstlerin: Dorothea Rust\nKonzept: Gisa Frank\, Katharina Vogel und Dorothea Rust
URL:https://dance-me-to-the-end.ch/veranstaltung/kompost-und-kollektiv/
LOCATION:Tanzhaus Zürich\, Wasserwerkstrasse 127a\, Zürich\, 8037
CATEGORIES:Dialogisches Format
ATTACH;FMTTYPE=image/jpeg:https://dance-me-to-the-end.ch/wp-content/uploads/2025/06/1_was_wir_nicht_sehen_videostills_©dorothea_rust-scaled.jpg
ORGANIZER;CN="Dance me to the end":MAILTO:info@dance-me-to-the-end.ch
END:VEVENT
END:VCALENDAR